BEGIN:VCALENDAR
VERSION:2.0
PRODID:-//https://noordoost-brabant-en-nijmegen.hcc.nl///NONSGML kigkonsult.se iCalcreator 2.10.15//
METHOD:PUBLISH
BEGIN:VEVENT
UID:20260425T000008CEST-4495JEXDkB@https://noordoost-brabant-en-nijmegen.hc
 c.nl/
DTSTAMP:20260424T220008Z
DESCRIPTION:Hierbij nodigen wij je van harte uit om je vòòr 22 april 2026 i
 n te schrijven voor de workshop Linux van de HCC!seniorenacademie afdeling
  Nijmegen op dinsdag 12 mei 2026.\n• tijd: 14:00 -16:00 uur• locatie: wijk
 centrum Hatert\, Couwenbergstraat 22\, Nijmegen• presentatie: Jacques Kobu
 ssen\n• let op: beperkt aantal&nbsp\;deelnemers geef je snel op vol=vol\n
 \nWorkshop: Stap over op Linux Mint\nLinux Mint is hét gebruiksvriendelijk
 e alternatief voor Windows. Het is snel\, veilig en draait uitstekend op o
 udere laptops. Tijdens deze workshop installeren we samen een schone versi
 e van Linux Mint.\n\nWaarom kiezen voor Linux Mint?\n• Privacy &amp\; Veil
 igheid: Geen verplichte accounts of activatie nodig.• Gratis software: All
 e programma's en updates zijn kosteloos.• Lage systeemeisen: Werkt soepel 
 op hardware waar Windows 10 of 11 moeite mee heeft.• Herkenbaar: De interf
 ace lijkt sterk op Windows\, wat de overstap makkelijk maakt.• Ondersteuni
 ng: Gratis aansluiten bij de HCC!Linux interessegroep en uitgebreide infor
 matie op het internet.\nBelangrijk ter voorbereiding\n• Hardware: Neem een
  oudere laptop mee die je niet actief meer gebruikt. Zorg voor een volle a
 ccu én vergeet de stroomadapter niet mee te nemen.\n• Back-up: De installa
 tie wist de gehele schijf! Zorg dat al je documenten en foto's veilig op e
 en externe schijf of in de Cloud staan.\n• Kennis: Zoek vooraf uit hoe je 
 in de BIOS of het opstartmenu van je laptop komt. Controleer ook of je lap
 top UEFI ondersteunt. In de bevestgings e-mail volgen nog wat tips hierove
 r als je er niet uitkomt.\n• Versies: We kiezen uit Cinnamon\, Mate\, Xfce
  of de lichte versie LMDE 7 voor oudere apparaten.\n• USB-stick: wij zorge
 n voor een USB-stick met de noodzakelijke Linux distributies en documenten
 Let op: Installatie geschiedt volledig op eigen risico\nAanmelden\n\nwanne
 er: nog enkele plaatsen beschikbaar&nbsp\;vol=vol\nbevestiging van de deel
 name: na aanmelding\nbij wie: Jacques Kobussen: jh.kobussen@hccnet.nl\n\n&
 nbsp\;\nhartelijke groet\,Rob Haarmancoördinator HCC!seniorenacademie afde
 ling Nijmegen https://noordoost-brabant-en-nijmegen.hcc.nl/rss-events/even
 ement/52-workshop-linux-mint-installatie
DTSTART:20260512T120000Z
DTEND:20260512T140000Z
LOCATION:Wijkcentrum Hatert (Couwenbergstraat 22\, 6535 RZ Nijmegen)
SUMMARY:Workshop Linux Mint installatie 
URL:https://noordoost-brabant-en-nijmegen.hcc.nl/rss-events/evenement/52-wo
 rkshop-linux-mint-installatie
END:VEVENT
END:VCALENDAR
